BEGIN:VCALENDAR
VERSION:2.0
PRODID:-//Contratero//ES
CALSCALE:GREGORIAN
METHOD:PUBLISH
BEGIN:VEVENT
UID:2025/ETSAE0904/00000255E@contratero.es
DTSTAMP:20260422T120227Z
DTSTART:20250505T235959
DTEND:20250506T005959
SUMMARY:Cierre: Renovación de licencia software específico de cibe
DESCRIPTION:Renovación de licencia software específico de ciberdefensa: NESSUS\\n\\nOrganismo: Sección de Asuntos Económicos de la Jefatura Sistemas de Información\, Telecomunicaciones y Asistencia Técnica\\n\\nVer en Contratero: https://contratero.es/contracts/2025/ETSAE0904/00000255E
URL:https://contratero.es/contracts/2025/ETSAE0904/00000255E
STATUS:CONFIRMED
BEGIN:VALARM
TRIGGER:-P1D
ACTION:DISPLAY
DESCRIPTION:Recordatorio: Renovación de licencia softwar
END:VALARM
END:VEVENT
END:VCALENDAR