BEGIN:VCALENDAR
VERSION:2.0
PRODID:-//Contratero//ES
CALSCALE:GREGORIAN
METHOD:PUBLISH
BEGIN:VEVENT
UID:2025/ETSAE0904/00000469E@contratero.es
DTSTAMP:20260420T052944Z
DTSTART:20260209T235959
DTEND:20260210T005959
SUMMARY:Cierre: AM para la asistencia técnica de ingeniería en tra
DESCRIPTION:AM para la asistencia técnica de ingeniería en trabajos y estudios en CEPRUVAL y en el centro de tecnologías emergentes del ET\\n\\nOrganismo: Sección de Asuntos Económicos de la Jefatura Sistemas de Información\, Telecomunicaciones y Asistencia Técnica\\n\\nVer en Contratero: https://contratero.es/contracts/2025/ETSAE0904/00000469E
URL:https://contratero.es/contracts/2025/ETSAE0904/00000469E
STATUS:CONFIRMED
BEGIN:VALARM
TRIGGER:-P1D
ACTION:DISPLAY
DESCRIPTION:Recordatorio: AM para la asistencia técnica 
END:VALARM
END:VEVENT
END:VCALENDAR