BEGIN:VCALENDAR
VERSION:2.0
PRODID:-//Contratero//ES
CALSCALE:GREGORIAN
METHOD:PUBLISH
BEGIN:VEVENT
UID:2025/ETSAE0904/00000612E@contratero.es
DTSTAMP:20260421T022315Z
DTSTART:20251015T235959
DTEND:20251016T005959
SUMMARY:Cierre: Renovación de Licencia de Acceso a una Plataforma 
DESCRIPTION:Renovación de Licencia de Acceso a una Plataforma Online de Ciberdefensa\\n\\nOrganismo: Sección de Asuntos Económicos de la Jefatura Sistemas de Información\, Telecomunicaciones y Asistencia Técnica\\n\\nVer en Contratero: https://contratero.es/contracts/2025/ETSAE0904/00000612E
URL:https://contratero.es/contracts/2025/ETSAE0904/00000612E
STATUS:CONFIRMED
BEGIN:VALARM
TRIGGER:-P1D
ACTION:DISPLAY
DESCRIPTION:Recordatorio: Renovación de Licencia de Acce
END:VALARM
END:VEVENT
END:VCALENDAR