BEGIN:VCALENDAR
VERSION:2.0
PRODID:-//Contratero//ES
CALSCALE:GREGORIAN
METHOD:PUBLISH
BEGIN:VEVENT
UID:2025/ETSAE0904/00000780E@contratero.es
DTSTAMP:20260419T221019Z
DTSTART:20260116T235959
DTEND:20260117T005959
SUMMARY:Cierre: AM para AT diseño e implementación de nodos de PM 
DESCRIPTION:AM para AT diseño e implementación de nodos de PM distribuidos y desplegados con tecnología de realidad extendida integrados en Zeus e interoperables con GESCOM\\n\\nOrganismo: Sección de Asuntos Económicos de la Jefatura Sistemas de Información\, Telecomunicaciones y Asistencia Técnica\\n\\nVer en Contratero: https://contratero.es/contracts/2025/ETSAE0904/00000780E
URL:https://contratero.es/contracts/2025/ETSAE0904/00000780E
STATUS:CONFIRMED
BEGIN:VALARM
TRIGGER:-P1D
ACTION:DISPLAY
DESCRIPTION:Recordatorio: AM para AT diseño e implementa
END:VALARM
END:VEVENT
END:VCALENDAR