BEGIN:VCALENDAR
VERSION:2.0
PRODID:-//Contratero//ES
CALSCALE:GREGORIAN
METHOD:PUBLISH
BEGIN:VEVENT
UID:2025/ETSAE0905/00001817E@contratero.es
DTSTAMP:20260426T005657Z
DTSTART:20250731T235959
DTEND:20250801T005959
SUMMARY:Cierre: Asistencia técnica para el desarrollo y mantenimie
DESCRIPTION:Asistencia técnica para el desarrollo y mantenimiento de soluciones de inteligencia empresarial en el área de personal mediante el empleo de Cognos. JAEMAPER\\n\\nOrganismo: Jefatura de Asuntos Económicos del Mando de Personal\\n\\nVer en Contratero: https://contratero.es/contracts/2025/ETSAE0905/00001817E
URL:https://contratero.es/contracts/2025/ETSAE0905/00001817E
STATUS:CONFIRMED
BEGIN:VALARM
TRIGGER:-P1D
ACTION:DISPLAY
DESCRIPTION:Recordatorio: Asistencia técnica para el des
END:VALARM
END:VEVENT
END:VCALENDAR