BEGIN:VCALENDAR
VERSION:2.0
PRODID:-//Contratero//ES
CALSCALE:GREGORIAN
METHOD:PUBLISH
BEGIN:VEVENT
UID:2025/FMARQ/212@contratero.es
DTSTAMP:20260420T011854Z
DTSTART:20251113T235959
DTEND:20251114T005959
SUMMARY:Cierre: Servicio de asesoramiento en comunicación digital\,
DESCRIPTION:Servicio de asesoramiento en comunicación digital\, nuevas tecnologías y redes.\\n\\nOrganismo: Comisión Ejecutiva de la Fundación de la Comunitat Valenciana MARQ\\n\\nVer en Contratero: https://contratero.es/contracts/2025/FMARQ/212
URL:https://contratero.es/contracts/2025/FMARQ/212
STATUS:CONFIRMED
BEGIN:VALARM
TRIGGER:-P1D
ACTION:DISPLAY
DESCRIPTION:Recordatorio: Servicio de asesoramiento en c
END:VALARM
END:VEVENT
END:VCALENDAR