BEGIN:VCALENDAR
VERSION:2.0
PRODID:-//Contratero//ES
CALSCALE:GREGORIAN
METHOD:PUBLISH
BEGIN:VEVENT
UID:2025/LIC/0028@contratero.es
DTSTAMP:20260423T214645Z
DTSTART:20250505T235959
DTEND:20250506T005959
SUMMARY:Cierre: Renovación de los servicios de mantenimiento y sop
DESCRIPTION:Renovación de los servicios de mantenimiento y soporte de las licencias del software de prevención de fuga de datos y servicios asociados de EGARSAT\, Mutua Colaboradora con la Seguridad Social Nº 276.\\n\\nOrganismo: Gerencia de EGARSAT\\n\\nVer en Contratero: https://contratero.es/contracts/2025/LIC/0028
URL:https://contratero.es/contracts/2025/LIC/0028
STATUS:CONFIRMED
BEGIN:VALARM
TRIGGER:-P1D
ACTION:DISPLAY
DESCRIPTION:Recordatorio: Renovación de los servicios de
END:VALARM
END:VEVENT
END:VCALENDAR