BEGIN:VCALENDAR
VERSION:2.0
PRODID:-//Contratero//ES
CALSCALE:GREGORIAN
METHOD:PUBLISH
BEGIN:VEVENT
UID:2025/NEG/000784@contratero.es
DTSTAMP:20260419T164416Z
DTSTART:20250908T235959
DTEND:20250909T005959
SUMMARY:Cierre: Contrato de Servicio de mantenimiento y soporte de
DESCRIPTION:Contrato de Servicio de mantenimiento y soporte del módulo para la gestión de informes de fiscalización limitada previa de requisitos básicos del Ayuntamiento de Fuenlabrada y sus Organismos Autónomos\\n\\nOrganismo: Junta de Gobierno Local del Ayuntamiento de Fuenlabrada\\n\\nVer en Contratero: https://contratero.es/contracts/2025/NEG/000784
URL:https://contratero.es/contracts/2025/NEG/000784
STATUS:CONFIRMED
BEGIN:VALARM
TRIGGER:-P1D
ACTION:DISPLAY
DESCRIPTION:Recordatorio: Contrato de Servicio de manten
END:VALARM
END:VEVENT
END:VCALENDAR