BEGIN:VCALENDAR
VERSION:2.0
PRODID:-//Contratero//ES
CALSCALE:GREGORIAN
METHOD:PUBLISH
BEGIN:VEVENT
UID:2025/SP03032003/00000976E@contratero.es
DTSTAMP:20260420T032717Z
DTSTART:20251104T235959
DTEND:20251105T005959
SUMMARY:Cierre: Servicios de desarrollo y mantenimiento del Sistem
DESCRIPTION:Servicios de desarrollo y mantenimiento del Sistema Informático de Dirección y Administración Económica (SIDAE) del Ministerio de Defensa\\n\\nOrganismo: Dirección Económico Financiero de la Dirección General de Infraestructura. MDE\\n\\nVer en Contratero: https://contratero.es/contracts/2025/SP03032003/00000976E
URL:https://contratero.es/contracts/2025/SP03032003/00000976E
STATUS:CONFIRMED
BEGIN:VALARM
TRIGGER:-P1D
ACTION:DISPLAY
DESCRIPTION:Recordatorio: Servicios de desarrollo y mant
END:VALARM
END:VEVENT
END:VCALENDAR