BEGIN:VCALENDAR
VERSION:2.0
PRODID:-//Contratero//ES
CALSCALE:GREGORIAN
METHOD:PUBLISH
BEGIN:VEVENT
UID:2025/SP03032003/00001480E@contratero.es
DTSTAMP:20260421T154640Z
DTSTART:20250626T235959
DTEND:20250627T005959
SUMMARY:Cierre: CBAM #3 del “Lote 5: Suministros y servicios de ci
DESCRIPTION:CBAM #3 del “Lote 5: Suministros y servicios de ciberseguridad transversales de la I3D” (AM 2022/SP03032003/00000330)\\n\\nOrganismo: Dirección Económico Financiero de la Dirección General de Infraestructura. MDE\\n\\nVer en Contratero: https://contratero.es/contracts/2025/SP03032003/00001480E
URL:https://contratero.es/contracts/2025/SP03032003/00001480E
STATUS:CONFIRMED
BEGIN:VALARM
TRIGGER:-P1D
ACTION:DISPLAY
DESCRIPTION:Recordatorio: CBAM #3 del “Lote 5: Suministr
END:VALARM
END:VEVENT
END:VCALENDAR