BEGIN:VCALENDAR
VERSION:2.0
PRODID:-//Contratero//ES
CALSCALE:GREGORIAN
METHOD:PUBLISH
BEGIN:VEVENT
UID:2025/SSV/000441@contratero.es
DTSTAMP:20260419T210036Z
DTSTART:20250613T235959
DTEND:20250614T005959
SUMMARY:Cierre: Servicio de soporte y tratamiento de datos del Sis
DESCRIPTION:Servicio de soporte y tratamiento de datos del Sistema de Gestión de Usuarios de los Servicios Sociales del Ayuntamiento de Sevilla (PROSERVIC)\, que incluye los módulos de la Mujer y Personas sin hoga...\\n\\nOrganismo: Órganos Directivos del Ayuntamiento de Sevilla\\n\\nVer en Contratero: https://contratero.es/contracts/2025/SSV/000441
URL:https://contratero.es/contracts/2025/SSV/000441
STATUS:CONFIRMED
BEGIN:VALARM
TRIGGER:-P1D
ACTION:DISPLAY
DESCRIPTION:Recordatorio: Servicio de soporte y tratamie
END:VALARM
END:VEVENT
END:VCALENDAR