BEGIN:VCALENDAR
VERSION:2.0
PRODID:-//Contratero//ES
CALSCALE:GREGORIAN
METHOD:PUBLISH
BEGIN:VEVENT
UID:202500000006@contratero.es
DTSTAMP:20260420T123314Z
DTSTART:20251111T235959
DTEND:20251112T005959
SUMMARY:Cierre: Servicio de asistencia técnica para la administrac
DESCRIPTION:Servicio de asistencia técnica para la administración y mantenimiento de sistemas informáticos en el ámbito del Comisionado para el Mercado de Tabacos.\\n\\nOrganismo: Comisionado para el Mercado de Tabacos\\n\\nVer en Contratero: https://contratero.es/contracts/202500000006
URL:https://contratero.es/contracts/202500000006
STATUS:CONFIRMED
BEGIN:VALARM
TRIGGER:-P1D
ACTION:DISPLAY
DESCRIPTION:Recordatorio: Servicio de asistencia técnica
END:VALARM
END:VEVENT
END:VCALENDAR