BEGIN:VCALENDAR
VERSION:2.0
PRODID:-//Contratero//ES
CALSCALE:GREGORIAN
METHOD:PUBLISH
BEGIN:VEVENT
UID:202500000030@contratero.es
DTSTAMP:20260423T100558Z
DTSTART:20251009T235959
DTEND:20251010T005959
SUMMARY:Cierre: Suministro en régimen de alquiler de licencias del
DESCRIPTION:Suministro en régimen de alquiler de licencias del software Data Cleaning\\n\\nOrganismo: Secretaría General del Centro de Investigaciones Sociológicas\\n\\nVer en Contratero: https://contratero.es/contracts/202500000030
URL:https://contratero.es/contracts/202500000030
STATUS:CONFIRMED
BEGIN:VALARM
TRIGGER:-P1D
ACTION:DISPLAY
DESCRIPTION:Recordatorio: Suministro en régimen de alqui
END:VALARM
END:VEVENT
END:VCALENDAR