BEGIN:VCALENDAR
VERSION:2.0
PRODID:-//Contratero//ES
CALSCALE:GREGORIAN
METHOD:PUBLISH
BEGIN:VEVENT
UID:202500000043@contratero.es
DTSTAMP:20260421T171317Z
DTSTART:20250605T235959
DTEND:20250606T005959
SUMMARY:Cierre: Servicio de mantenimiento y evolución de aplicacio
DESCRIPTION:Servicio de mantenimiento y evolución de aplicaciones para el Ministerio de Ciencia\, Innovación y Universidades.\\n\\nOrganismo: Subsecretaría de Ciencia\, Innovación y Universidades\\n\\nVer en Contratero: https://contratero.es/contracts/202500000043
URL:https://contratero.es/contracts/202500000043
STATUS:CONFIRMED
BEGIN:VALARM
TRIGGER:-P1D
ACTION:DISPLAY
DESCRIPTION:Recordatorio: Servicio de mantenimiento y ev
END:VALARM
END:VEVENT
END:VCALENDAR