BEGIN:VCALENDAR
VERSION:2.0
PRODID:-//Contratero//ES
CALSCALE:GREGORIAN
METHOD:PUBLISH
BEGIN:VEVENT
UID:202500000190@contratero.es
DTSTAMP:20260419T135701Z
DTSTART:20260430T235959
DTEND:20260501T005959
SUMMARY:Cierre: Servicio de desarrollo\, implementación y pruebas d
DESCRIPTION:Servicio de desarrollo\, implementación y pruebas de la función MET REPORT / SPECIAL en los SIM TIE Y METCONSOLE\\n\\nOrganismo: Presidencia de la Agencia Estatal de Meteorología\\n\\nVer en Contratero: https://contratero.es/contracts/202500000190
URL:https://contratero.es/contracts/202500000190
STATUS:CONFIRMED
BEGIN:VALARM
TRIGGER:-P1D
ACTION:DISPLAY
DESCRIPTION:Recordatorio: Servicio de desarrollo\, implem
END:VALARM
END:VEVENT
END:VCALENDAR