BEGIN:VCALENDAR
VERSION:2.0
PRODID:-//Contratero//ES
CALSCALE:GREGORIAN
METHOD:PUBLISH
BEGIN:VEVENT
UID:2025000006@contratero.es
DTSTAMP:20260421T154408Z
DTSTART:20250528T235959
DTEND:20250529T005959
SUMMARY:Cierre: MRR_Infraestructuras_licencias\, desarrollo\, manten
DESCRIPTION:MRR_Infraestructuras_licencias\, desarrollo\, mantenimiento y asistencia técnica de cuadros de mando de indicadores para atención primaria y salud mental PRTR. Fondos Europeos. NEXTGENERATION EU\\n\\nOrganismo: Servicio de Salud - Servicios Centrales\\n\\nVer en Contratero: https://contratero.es/contracts/2025000006
URL:https://contratero.es/contracts/2025000006
STATUS:CONFIRMED
BEGIN:VALARM
TRIGGER:-P1D
ACTION:DISPLAY
DESCRIPTION:Recordatorio: MRR_Infraestructuras_licencias
END:VALARM
END:VEVENT
END:VCALENDAR