BEGIN:VCALENDAR
VERSION:2.0
PRODID:-//Contratero//ES
CALSCALE:GREGORIAN
METHOD:PUBLISH
BEGIN:VEVENT
UID:2025000037@contratero.es
DTSTAMP:20260421T002025Z
DTSTART:20250724T235959
DTEND:20250725T005959
SUMMARY:Cierre: Servicio de administración y renovación tecnológic
DESCRIPTION:Servicio de administración y renovación tecnológica de los sistemas informáticos del Ministerio de Asuntos Exteriores\, Unión Europea y Cooperación\\n\\nOrganismo: Junta de Contratación del Ministerio de Asuntos Exteriores\, Unión Europea y Cooperación\\n\\nVer en Contratero: https://contratero.es/contracts/2025000037
URL:https://contratero.es/contracts/2025000037
STATUS:CONFIRMED
BEGIN:VALARM
TRIGGER:-P1D
ACTION:DISPLAY
DESCRIPTION:Recordatorio: Servicio de administración y r
END:VALARM
END:VEVENT
END:VCALENDAR