BEGIN:VCALENDAR
VERSION:2.0
PRODID:-//Contratero//ES
CALSCALE:GREGORIAN
METHOD:PUBLISH
BEGIN:VEVENT
UID:2025000058AC@contratero.es
DTSTAMP:20260425T191303Z
DTSTART:20250716T235959
DTEND:20250717T005959
SUMMARY:Cierre: Suministro de productos de Power BI EMBEDDED (micr
DESCRIPTION:Suministro de productos de Power BI EMBEDDED (microsoft) para proyectos de analítica de datos en el Ministerio de Agricultura\, Pesca y Alimentación\\n\\nOrganismo: Dirección General de Servicios e Inspección del Ministerio de Agricultura\, Pesca y Alimentación\\n\\nVer en Contratero: https://contratero.es/contracts/2025000058AC
URL:https://contratero.es/contracts/2025000058AC
STATUS:CONFIRMED
BEGIN:VALARM
TRIGGER:-P1D
ACTION:DISPLAY
DESCRIPTION:Recordatorio: Suministro de productos de Pow
END:VALARM
END:VEVENT
END:VCALENDAR