BEGIN:VCALENDAR
VERSION:2.0
PRODID:-//Contratero//ES
CALSCALE:GREGORIAN
METHOD:PUBLISH
BEGIN:VEVENT
UID:2025000077@contratero.es
DTSTAMP:20260420T223702Z
DTSTART:20251212T235959
DTEND:20251213T005959
SUMMARY:Cierre: Servicio de Administración y Mantenimiento de los 
DESCRIPTION:Servicio de Administración y Mantenimiento de los sistemas de información que manejan información clasificada del Ministerio de Asuntos Exteriores\, Unión Europea y Cooperación.\\n\\nOrganismo: Junta de Contratación del Ministerio de Asuntos Exteriores\, Unión Europea y Cooperación\\n\\nVer en Contratero: https://contratero.es/contracts/2025000077
URL:https://contratero.es/contracts/2025000077
STATUS:CONFIRMED
BEGIN:VALARM
TRIGGER:-P1D
ACTION:DISPLAY
DESCRIPTION:Recordatorio: Servicio de Administración y M
END:VALARM
END:VEVENT
END:VCALENDAR