BEGIN:VCALENDAR
VERSION:2.0
PRODID:-//Contratero//ES
CALSCALE:GREGORIAN
METHOD:PUBLISH
BEGIN:VEVENT
UID:2025000088@contratero.es
DTSTAMP:20260421T143012Z
DTSTART:20251121T235959
DTEND:20251122T005959
SUMMARY:Cierre: Servicio de mantenimiento\, asistencia técnica y co
DESCRIPTION:Servicio de mantenimiento\, asistencia técnica y consultoría del software CRONOS para el Ayuntamiento de Getafe.\\n\\nOrganismo: Junta de Gobierno del Ayuntamiento de Getafe\\n\\nVer en Contratero: https://contratero.es/contracts/2025000088
URL:https://contratero.es/contracts/2025000088
STATUS:CONFIRMED
BEGIN:VALARM
TRIGGER:-P1D
ACTION:DISPLAY
DESCRIPTION:Recordatorio: Servicio de mantenimiento\, asi
END:VALARM
END:VEVENT
END:VCALENDAR