BEGIN:VCALENDAR
VERSION:2.0
PRODID:-//Contratero//ES
CALSCALE:GREGORIAN
METHOD:PUBLISH
BEGIN:VEVENT
UID:2025000493@contratero.es
DTSTAMP:20260419T130442Z
DTSTART:20250723T235959
DTEND:20250724T005959
SUMMARY:Cierre: Servicio de normalización y geocodificación de la 
DESCRIPTION:Servicio de normalización y geocodificación de la dirección postal del domicilio de personas con tarjeta sanitaria en el Principado de Asturias. Proyecto financiado por el Mecanismo de Recuperación y ...\\n\\nOrganismo: Consejería de Salud\\n\\nVer en Contratero: https://contratero.es/contracts/2025000493
URL:https://contratero.es/contracts/2025000493
STATUS:CONFIRMED
BEGIN:VALARM
TRIGGER:-P1D
ACTION:DISPLAY
DESCRIPTION:Recordatorio: Servicio de normalización y ge
END:VALARM
END:VEVENT
END:VCALENDAR