BEGIN:VCALENDAR
VERSION:2.0
PRODID:-//Contratero//ES
CALSCALE:GREGORIAN
METHOD:PUBLISH
BEGIN:VEVENT
UID:2025000827@contratero.es
DTSTAMP:20260422T051448Z
DTSTART:20251226T235959
DTEND:20251227T005959
SUMMARY:Cierre: Sistema de información para la gestión integral de
DESCRIPTION:Sistema de información para la gestión integral de la actividad de investigación\, incluyendo su implantación en el SERIDA\\n\\nOrganismo: Directora Gerente del Servicio Regional de Investigación y Desarrollo Agroalimentario del Principado de Asturias (SERIDA)\\n\\nVer en Contratero: https://contratero.es/contracts/2025000827
URL:https://contratero.es/contracts/2025000827
STATUS:CONFIRMED
BEGIN:VALARM
TRIGGER:-P1D
ACTION:DISPLAY
DESCRIPTION:Recordatorio: Sistema de información para la
END:VALARM
END:VEVENT
END:VCALENDAR