BEGIN:VCALENDAR
VERSION:2.0
PRODID:-//Contratero//ES
CALSCALE:GREGORIAN
METHOD:PUBLISH
BEGIN:VEVENT
UID:2025000953@contratero.es
DTSTAMP:20260423T152429Z
DTSTART:20251211T235959
DTEND:20251212T005959
SUMMARY:Cierre: servicio de mantenimiento integral de acceso de us
DESCRIPTION:servicio de mantenimiento integral de acceso de usuarios a la estación invernal y de montaña valgrande pajares (eimvp) mediante tramitacion anticipada de exdiente de gasto\, por procedimiento negociado...\\n\\nOrganismo: Consejería de Cultura\, Política Llingüística y Deporte\\n\\nVer en Contratero: https://contratero.es/contracts/2025000953
URL:https://contratero.es/contracts/2025000953
STATUS:CONFIRMED
BEGIN:VALARM
TRIGGER:-P1D
ACTION:DISPLAY
DESCRIPTION:Recordatorio: servicio de mantenimiento inte
END:VALARM
END:VEVENT
END:VCALENDAR