BEGIN:VCALENDAR
VERSION:2.0
PRODID:-//Contratero//ES
CALSCALE:GREGORIAN
METHOD:PUBLISH
BEGIN:VEVENT
UID:202500119@contratero.es
DTSTAMP:20260423T085401Z
DTSTART:20251210T235959
DTEND:20251211T005959
SUMMARY:Cierre: Servicios de mantenimiento de portales corporativo
DESCRIPTION:Servicios de mantenimiento de portales corporativos web MARE\\n\\nOrganismo: Consejo de Administración de Medio Ambiente\, Agua\, Residuos y Energía de Cantabria\, S.A.(MARE S.A.)\\n\\nVer en Contratero: https://contratero.es/contracts/202500119
URL:https://contratero.es/contracts/202500119
STATUS:CONFIRMED
BEGIN:VALARM
TRIGGER:-P1D
ACTION:DISPLAY
DESCRIPTION:Recordatorio: Servicios de mantenimiento de 
END:VALARM
END:VEVENT
END:VCALENDAR