BEGIN:VCALENDAR
VERSION:2.0
PRODID:-//Contratero//ES
CALSCALE:GREGORIAN
METHOD:PUBLISH
BEGIN:VEVENT
UID:202505PAO019@contratero.es
DTSTAMP:20260420T032629Z
DTSTART:20260120T235959
DTEND:20260121T005959
SUMMARY:Cierre: Servicio de desarrollo de aplicaciones en los ámbi
DESCRIPTION:Servicio de desarrollo de aplicaciones en los ámbitos de la SGSDS y de los portales sectoriales del Ministerio de Sanidad\\n\\nOrganismo: Junta de Contratación del Ministerio de Sanidad\\n\\nVer en Contratero: https://contratero.es/contracts/202505PAO019
URL:https://contratero.es/contracts/202505PAO019
STATUS:CONFIRMED
BEGIN:VALARM
TRIGGER:-P1D
ACTION:DISPLAY
DESCRIPTION:Recordatorio: Servicio de desarrollo de apli
END:VALARM
END:VEVENT
END:VCALENDAR