BEGIN:VCALENDAR
VERSION:2.0
PRODID:-//Contratero//ES
CALSCALE:GREGORIAN
METHOD:PUBLISH
BEGIN:VEVENT
UID:20250704-00538@contratero.es
DTSTAMP:20260420T123558Z
DTSTART:20250908T235959
DTEND:20250909T005959
SUMMARY:Cierre: El servicio descrito tiene como objeto desarrollar
DESCRIPTION:El servicio descrito tiene como objeto desarrollar la Asistencia Digital Personalizada para pacientes enfermos diabéticos con dispositivos de bomba de insulina de las cuidades autónomas de Ceuta y Mel...\\n\\nOrganismo: Ineco-Comité de Dirección\\n\\nVer en Contratero: https://contratero.es/contracts/20250704-00538
URL:https://contratero.es/contracts/20250704-00538
STATUS:CONFIRMED
BEGIN:VALARM
TRIGGER:-P1D
ACTION:DISPLAY
DESCRIPTION:Recordatorio: El servicio descrito tiene com
END:VALARM
END:VEVENT
END:VCALENDAR