BEGIN:VCALENDAR
VERSION:2.0
PRODID:-//Contratero//ES
CALSCALE:GREGORIAN
METHOD:PUBLISH
BEGIN:VEVENT
UID:2025076@contratero.es
DTSTAMP:20260422T182608Z
DTSTART:20251225T235959
DTEND:20251226T005959
SUMMARY:Cierre: Contrato de servicios de mantenimiento y soporte d
DESCRIPTION:Contrato de servicios de mantenimiento y soporte del sistema ERP- Fundanet para la Fundación para la Investigación de Málaga en Biomedicina y Salud\\n\\nOrganismo: Gerencia Fundación para la Investigación de Málaga en Biomedicina y Salud (FIMABIS)\\n\\nVer en Contratero: https://contratero.es/contracts/2025076
URL:https://contratero.es/contracts/2025076
STATUS:CONFIRMED
BEGIN:VALARM
TRIGGER:-P1D
ACTION:DISPLAY
DESCRIPTION:Recordatorio: Contrato de servicios de mante
END:VALARM
END:VEVENT
END:VCALENDAR