BEGIN:VCALENDAR
VERSION:2.0
PRODID:-//Contratero//ES
CALSCALE:GREGORIAN
METHOD:PUBLISH
BEGIN:VEVENT
UID:2025078_ASEs@contratero.es
DTSTAMP:20260425T113633Z
DTSTART:20250806T235959
DTEND:20250807T005959
SUMMARY:Cierre: Servicios de los centros de acceso público a inter
DESCRIPTION:Servicios de los centros de acceso público a internet (capi) y wifi del ayuntamiento de Alcorcón\\n\\nOrganismo: Junta de Gobierno del Ayuntamiento de Alcorcón\\n\\nVer en Contratero: https://contratero.es/contracts/2025078_ASEs
URL:https://contratero.es/contracts/2025078_ASEs
STATUS:CONFIRMED
BEGIN:VALARM
TRIGGER:-P1D
ACTION:DISPLAY
DESCRIPTION:Recordatorio: Servicios de los centros de ac
END:VALARM
END:VEVENT
END:VCALENDAR