BEGIN:VCALENDAR
VERSION:2.0
PRODID:-//Contratero//ES
CALSCALE:GREGORIAN
METHOD:PUBLISH
BEGIN:VEVENT
UID:20251125-00774@contratero.es
DTSTAMP:20260423T170131Z
DTSTART:20260105T235959
DTEND:20260106T005959
SUMMARY:Cierre: Suministro de licencias SHOPOS endpoint for legacy
DESCRIPTION:Suministro de licencias SHOPOS endpoint for legacy platforms\\n\\nOrganismo: Ineco-Comité de Dirección\\n\\nVer en Contratero: https://contratero.es/contracts/20251125-00774
URL:https://contratero.es/contracts/20251125-00774
STATUS:CONFIRMED
BEGIN:VALARM
TRIGGER:-P1D
ACTION:DISPLAY
DESCRIPTION:Recordatorio: Suministro de licencias SHOPOS
END:VALARM
END:VEVENT
END:VCALENDAR