BEGIN:VCALENDAR
VERSION:2.0
PRODID:-//Contratero//ES
CALSCALE:GREGORIAN
METHOD:PUBLISH
BEGIN:VEVENT
UID:20251205-00794@contratero.es
DTSTAMP:20260422T190818Z
DTSTART:20260212T235959
DTEND:20260213T005959
SUMMARY:Cierre: Servicio de operación y gobernanza de la infraestr
DESCRIPTION:Servicio de operación y gobernanza de la infraestructura en nube de Ineco\\n\\nOrganismo: Ineco-Comité de Dirección\\n\\nVer en Contratero: https://contratero.es/contracts/20251205-00794
URL:https://contratero.es/contracts/20251205-00794
STATUS:CONFIRMED
BEGIN:VALARM
TRIGGER:-P1D
ACTION:DISPLAY
DESCRIPTION:Recordatorio: Servicio de operación y gobern
END:VALARM
END:VEVENT
END:VCALENDAR