BEGIN:VCALENDAR
VERSION:2.0
PRODID:-//Contratero//ES
CALSCALE:GREGORIAN
METHOD:PUBLISH
BEGIN:VEVENT
UID:2025152@contratero.es
DTSTAMP:20260425T034623Z
DTSTART:20251121T235959
DTEND:20251122T005959
SUMMARY:Cierre: Servicio de implantación\, configuración y mantenim
DESCRIPTION:Servicio de implantación\, configuración y mantenimiento de una solución de gestión de accesos privilegiados (PAM) para el Ajuntament de Calvià\\n\\nOrganismo: Teniente de Alcalde delegada de Servicios Generales\, Informática\, Comunicación y Coordinación Municipal del Ayuntamiento de Calviá\\n\\nVer en Contratero: https://contratero.es/contracts/2025152
URL:https://contratero.es/contracts/2025152
STATUS:CONFIRMED
BEGIN:VALARM
TRIGGER:-P1D
ACTION:DISPLAY
DESCRIPTION:Recordatorio: Servicio de implantación\, conf
END:VALARM
END:VEVENT
END:VCALENDAR