BEGIN:VCALENDAR
VERSION:2.0
PRODID:-//Contratero//ES
CALSCALE:GREGORIAN
METHOD:PUBLISH
BEGIN:VEVENT
UID:2025431@contratero.es
DTSTAMP:20260426T022526Z
DTSTART:20251006T235959
DTEND:20251007T005959
SUMMARY:Cierre: Asistencia material para la migración del GIS de s
DESCRIPTION:Asistencia material para la migración del GIS de saneamiento de la ciudad de Zaragoza a entornos ArcGIS Utility Network financiado con fondos procedentes del mecanismo de recuperación y resiliencia - ...\\n\\nOrganismo: Gerencia de Ecociudad Zaragoza S.A.U. (Medio Propio)\\n\\nVer en Contratero: https://contratero.es/contracts/2025431
URL:https://contratero.es/contracts/2025431
STATUS:CONFIRMED
BEGIN:VALARM
TRIGGER:-P1D
ACTION:DISPLAY
DESCRIPTION:Recordatorio: Asistencia material para la mi
END:VALARM
END:VEVENT
END:VCALENDAR