BEGIN:VCALENDAR
VERSION:2.0
PRODID:-//Contratero//ES
CALSCALE:GREGORIAN
METHOD:PUBLISH
BEGIN:VEVENT
UID:202550NSP391@contratero.es
DTSTAMP:20260421T072059Z
DTSTART:20250910T235959
DTEND:20250911T005959
SUMMARY:Cierre: Suscripción a plataforma de gestión de marketing p
DESCRIPTION:Suscripción a plataforma de gestión de marketing por correo electrónico en modalidad pago por uso\\n\\nOrganismo: Consejo de Administración del Patrimonio Nacional\\n\\nVer en Contratero: https://contratero.es/contracts/202550NSP391
URL:https://contratero.es/contracts/202550NSP391
STATUS:CONFIRMED
BEGIN:VALARM
TRIGGER:-P1D
ACTION:DISPLAY
DESCRIPTION:Recordatorio: Suscripción a plataforma de ge
END:VALARM
END:VEVENT
END:VCALENDAR