BEGIN:VCALENDAR
VERSION:2.0
PRODID:-//Contratero//ES
CALSCALE:GREGORIAN
METHOD:PUBLISH
BEGIN:VEVENT
UID:2025COMP000174@contratero.es
DTSTAMP:20260423T015750Z
DTSTART:20251216T235959
DTEND:20251217T005959
SUMMARY:Cierre: Suministro de licencias de Microsoft 365 para el A
DESCRIPTION:Suministro de licencias de Microsoft 365 para el Ayuntamiento de San Fernando de Henares\\n\\nOrganismo: Alcaldía del Ayuntamiento de San Fernando de Henares\\n\\nVer en Contratero: https://contratero.es/contracts/2025COMP000174
URL:https://contratero.es/contracts/2025COMP000174
STATUS:CONFIRMED
BEGIN:VALARM
TRIGGER:-P1D
ACTION:DISPLAY
DESCRIPTION:Recordatorio: Suministro de licencias de Mic
END:VALARM
END:VEVENT
END:VCALENDAR