BEGIN:VCALENDAR
VERSION:2.0
PRODID:-//Contratero//ES
CALSCALE:GREGORIAN
METHOD:PUBLISH
BEGIN:VEVENT
UID:2025PL163@contratero.es
DTSTAMP:20260420T084235Z
DTSTART:20260129T235959
DTEND:20260130T005959
SUMMARY:Cierre: Contratación en régimen de exclusividad de los ser
DESCRIPTION:Contratación en régimen de exclusividad de los servicios de actualización tecnológica y mantenimiento de sistemas y aplicación de control de pesajes y auditoria de tránsitos y bolsa de horas para pers...\\n\\nOrganismo: Dirección Gerencia de Limpieza de Málaga Sociedad Anónima Municipal\\n\\nVer en Contratero: https://contratero.es/contracts/2025PL163
URL:https://contratero.es/contracts/2025PL163
STATUS:CONFIRMED
BEGIN:VALARM
TRIGGER:-P1D
ACTION:DISPLAY
DESCRIPTION:Recordatorio: Contratación en régimen de exc
END:VALARM
END:VEVENT
END:VCALENDAR