BEGIN:VCALENDAR
VERSION:2.0
PRODID:-//Contratero//ES
CALSCALE:GREGORIAN
METHOD:PUBLISH
BEGIN:VEVENT
UID:2025PR400065@contratero.es
DTSTAMP:20260420T171145Z
DTSTART:20251120T235959
DTEND:20251121T005959
SUMMARY:Cierre: El mantenimiento de las licencias ORACLE usadas en
DESCRIPTION:El mantenimiento de las licencias ORACLE usadas en los entornos de bases de datos del PME\\n\\nOrganismo: Parque Móvil del Estado\\n\\nVer en Contratero: https://contratero.es/contracts/2025PR400065
URL:https://contratero.es/contracts/2025PR400065
STATUS:CONFIRMED
BEGIN:VALARM
TRIGGER:-P1D
ACTION:DISPLAY
DESCRIPTION:Recordatorio: El mantenimiento de las licenc
END:VALARM
END:VEVENT
END:VCALENDAR