BEGIN:VCALENDAR
VERSION:2.0
PRODID:-//Contratero//ES
CALSCALE:GREGORIAN
METHOD:PUBLISH
BEGIN:VEVENT
UID:2025Qd600011@contratero.es
DTSTAMP:20260419T234628Z
DTSTART:20250524T235959
DTEND:20250525T005959
SUMMARY:Cierre: Contrato de Asistencia Técnica para el mantenimien
DESCRIPTION:Contrato de Asistencia Técnica para el mantenimiento de los sistemas de información basados en tecnologías Microsoft de la Agencia Española de Cooperación Internacional para el Desarrollo (AECID)\\n\\nOrganismo: Dirección de la Agencia Española de Cooperación Internacional para el Desarrollo (AECID)\\n\\nVer en Contratero: https://contratero.es/contracts/2025Qd600011
URL:https://contratero.es/contracts/2025Qd600011
STATUS:CONFIRMED
BEGIN:VALARM
TRIGGER:-P1D
ACTION:DISPLAY
DESCRIPTION:Recordatorio: Contrato de Asistencia Técnica
END:VALARM
END:VEVENT
END:VCALENDAR