BEGIN:VCALENDAR
VERSION:2.0
PRODID:-//Contratero//ES
CALSCALE:GREGORIAN
METHOD:PUBLISH
BEGIN:VEVENT
UID:2025SE00036@contratero.es
DTSTAMP:20260422T035112Z
DTSTART:20260112T235959
DTEND:20260113T005959
SUMMARY:Cierre: Migración de Preven-CS a EVOPreven Cloud y manteni
DESCRIPTION:Migración de Preven-CS a EVOPreven Cloud y mantenimiento anual\\n\\nOrganismo: Rectorado de la Universitat de València\\n\\nVer en Contratero: https://contratero.es/contracts/2025SE00036
URL:https://contratero.es/contracts/2025SE00036
STATUS:CONFIRMED
BEGIN:VALARM
TRIGGER:-P1D
ACTION:DISPLAY
DESCRIPTION:Recordatorio: Migración de Preven-CS a EVOPr
END:VALARM
END:VEVENT
END:VCALENDAR