BEGIN:VCALENDAR
VERSION:2.0
PRODID:-//Contratero//ES
CALSCALE:GREGORIAN
METHOD:PUBLISH
BEGIN:VEVENT
UID:2025_0009@contratero.es
DTSTAMP:20260422T114251Z
DTSTART:20250407T235959
DTEND:20250408T005959
SUMMARY:Cierre: Suministro de contenidos didácticos en formato SCO
DESCRIPTION:Suministro de contenidos didácticos en formato SCORM para el desarrollo de planes de formación para personas trabajadoras\, en modalidad online.\\n\\nOrganismo: Junta de Gobierno del Ayuntamiento de Murcia\\n\\nVer en Contratero: https://contratero.es/contracts/2025_0009
URL:https://contratero.es/contracts/2025_0009
STATUS:CONFIRMED
BEGIN:VALARM
TRIGGER:-P1D
ACTION:DISPLAY
DESCRIPTION:Recordatorio: Suministro de contenidos didác
END:VALARM
END:VEVENT
END:VCALENDAR