BEGIN:VCALENDAR
VERSION:2.0
PRODID:-//Contratero//ES
CALSCALE:GREGORIAN
METHOD:PUBLISH
BEGIN:VEVENT
UID:2025_008_SPD_SIS@contratero.es
DTSTAMP:20260420T032456Z
DTSTART:20251201T235959
DTEND:20251202T005959
SUMMARY:Cierre: Servicios de desarrollo de la aplicación de gestió
DESCRIPTION:Servicios de desarrollo de la aplicación de gestión y tramitación de financiación de SEPIDES.\\n\\nOrganismo: Sociedad Estatal de Promoción Industrial y Desarrollo Empresarial Entidad Pública Empresarial\\n\\nVer en Contratero: https://contratero.es/contracts/2025_008_SPD_SIS
URL:https://contratero.es/contracts/2025_008_SPD_SIS
STATUS:CONFIRMED
BEGIN:VALARM
TRIGGER:-P1D
ACTION:DISPLAY
DESCRIPTION:Recordatorio: Servicios de desarrollo de la 
END:VALARM
END:VEVENT
END:VCALENDAR