BEGIN:VCALENDAR
VERSION:2.0
PRODID:-//Contratero//ES
CALSCALE:GREGORIAN
METHOD:PUBLISH
BEGIN:VEVENT
UID:2025_0173@contratero.es
DTSTAMP:20260419T175826Z
DTSTART:20260330T235959
DTEND:20260331T005959
SUMMARY:Cierre: Servicio de creación de SMART TOURISM OFFICE y seg
DESCRIPTION:Servicio de creación de SMART TOURISM OFFICE y seguimiento del sistema de gestión DTI-UNE 178501\, financiado por la Unión Europea mediante el Plan de Recuperación\, Transformación y Resiliencia (PRTR)\,...\\n\\nOrganismo: Junta de Gobierno del Ayuntamiento de Murcia\\n\\nVer en Contratero: https://contratero.es/contracts/2025_0173
URL:https://contratero.es/contracts/2025_0173
STATUS:CONFIRMED
BEGIN:VALARM
TRIGGER:-P1D
ACTION:DISPLAY
DESCRIPTION:Recordatorio: Servicio de creación de SMART 
END:VALARM
END:VEVENT
END:VCALENDAR