BEGIN:VCALENDAR
VERSION:2.0
PRODID:-//Contratero//ES
CALSCALE:GREGORIAN
METHOD:PUBLISH
BEGIN:VEVENT
UID:2025_031_SARA@contratero.es
DTSTAMP:20260420T071952Z
DTSTART:20251027T235959
DTEND:20251028T005959
SUMMARY:Cierre: El objeto del contrato consiste en un servicio de 
DESCRIPTION:El objeto del contrato consiste en un servicio de gestión y mantenimiento de aplicaciones y un servicio de soporte técnico a usuarios y gestión y administración del entorno de trabajo de EOI.\\n\\nOrganismo: Dirección General de la Fundación EOI\\n\\nVer en Contratero: https://contratero.es/contracts/2025_031_SARA
URL:https://contratero.es/contracts/2025_031_SARA
STATUS:CONFIRMED
BEGIN:VALARM
TRIGGER:-P1D
ACTION:DISPLAY
DESCRIPTION:Recordatorio: El objeto del contrato consist
END:VALARM
END:VEVENT
END:VCALENDAR