BEGIN:VCALENDAR
VERSION:2.0
PRODID:-//Contratero//ES
CALSCALE:GREGORIAN
METHOD:PUBLISH
BEGIN:VEVENT
UID:2025_046SU@contratero.es
DTSTAMP:20260423T133949Z
DTSTART:20251017T235959
DTEND:20251018T005959
SUMMARY:Cierre: Licenciamiento\, mantenimiento y soporte de MS DYNA
DESCRIPTION:Licenciamiento\, mantenimiento y soporte de MS DYNAMICS 365 sales y clickdimensions para la Autoridad Portuaria de Tarragona\\n\\nOrganismo: Presidencia de la Autoridad Portuaria de Tarragona\\n\\nVer en Contratero: https://contratero.es/contracts/2025_046SU
URL:https://contratero.es/contracts/2025_046SU
STATUS:CONFIRMED
BEGIN:VALARM
TRIGGER:-P1D
ACTION:DISPLAY
DESCRIPTION:Recordatorio: Licenciamiento\, mantenimiento 
END:VALARM
END:VEVENT
END:VCALENDAR