BEGIN:VCALENDAR
VERSION:2.0
PRODID:-//Contratero//ES
CALSCALE:GREGORIAN
METHOD:PUBLISH
BEGIN:VEVENT
UID:2025t1y00005@contratero.es
DTSTAMP:20260421T153521Z
DTSTART:20251126T235959
DTEND:20251127T005959
SUMMARY:Cierre: Licitación con negociación sin lotes.
DESCRIPTION:Licitación con negociación sin lotes.\\n\\nOrganismo: Dirección General de Seguros y Fondos de Pensiones\\n\\nVer en Contratero: https://contratero.es/contracts/2025t1y00005
URL:https://contratero.es/contracts/2025t1y00005
STATUS:CONFIRMED
BEGIN:VALARM
TRIGGER:-P1D
ACTION:DISPLAY
DESCRIPTION:Recordatorio: Licitación con negociación sin
END:VALARM
END:VEVENT
END:VCALENDAR