BEGIN:VCALENDAR
VERSION:2.0
PRODID:-//Contratero//ES
CALSCALE:GREGORIAN
METHOD:PUBLISH
BEGIN:VEVENT
UID:2026-00045@contratero.es
DTSTAMP:20260421T110858Z
DTSTART:20260318T235959
DTEND:20260319T005959
SUMMARY:Cierre: Servicios de apoyo para la evolución tecnológica y
DESCRIPTION:Servicios de apoyo para la evolución tecnológica y funcional del sistema logístico de la Unidad Militar de Emergencias\\n\\nOrganismo: Consejero Delegado de Ingeniería de Sistemas para la Defensa de España S.A.\, S.M.E. y M.P.\\n\\nVer en Contratero: https://contratero.es/contracts/2026-00045
URL:https://contratero.es/contracts/2026-00045
STATUS:CONFIRMED
BEGIN:VALARM
TRIGGER:-P1D
ACTION:DISPLAY
DESCRIPTION:Recordatorio: Servicios de apoyo para la evo
END:VALARM
END:VEVENT
END:VCALENDAR