BEGIN:VCALENDAR
VERSION:2.0
PRODID:-//Contratero//ES
CALSCALE:GREGORIAN
METHOD:PUBLISH
BEGIN:VEVENT
UID:2026-00118@contratero.es
DTSTAMP:20260420T091737Z
DTSTART:20260303T235959
DTEND:20260304T005959
SUMMARY:Cierre: Contratación de servicios de apoyo en tareas de su
DESCRIPTION:Contratación de servicios de apoyo en tareas de supervisión de la seguridad operacional en aeropuertos certificados en el marco europeo\\n\\nOrganismo: Consejero Delegado de Ingeniería de Sistemas para la Defensa de España S.A.\, S.M.E. y M.P.\\n\\nVer en Contratero: https://contratero.es/contracts/2026-00118
URL:https://contratero.es/contracts/2026-00118
STATUS:CONFIRMED
BEGIN:VALARM
TRIGGER:-P1D
ACTION:DISPLAY
DESCRIPTION:Recordatorio: Contratación de servicios de a
END:VALARM
END:VEVENT
END:VCALENDAR