BEGIN:VCALENDAR
VERSION:2.0
PRODID:-//Contratero//ES
CALSCALE:GREGORIAN
METHOD:PUBLISH
BEGIN:VEVENT
UID:2026-00158@contratero.es
DTSTAMP:20260421T023931Z
DTSTART:20260302T235959
DTEND:20260303T005959
SUMMARY:Cierre: Servicios de apoyo técnico en las actuaciones en m
DESCRIPTION:Servicios de apoyo técnico en las actuaciones en materia de gestión contable y económica de los programas de ayudas públicas y en la gestión de las obligaciones financieras de los beneficiarios de los...\\n\\nOrganismo: Consejero Delegado de Ingeniería de Sistemas para la Defensa de España S.A.\, S.M.E. y M.P.\\n\\nVer en Contratero: https://contratero.es/contracts/2026-00158
URL:https://contratero.es/contracts/2026-00158
STATUS:CONFIRMED
BEGIN:VALARM
TRIGGER:-P1D
ACTION:DISPLAY
DESCRIPTION:Recordatorio: Servicios de apoyo técnico en 
END:VALARM
END:VEVENT
END:VCALENDAR