BEGIN:VCALENDAR
VERSION:2.0
PRODID:-//Contratero//ES
CALSCALE:GREGORIAN
METHOD:PUBLISH
BEGIN:VEVENT
UID:2026-0026@contratero.es
DTSTAMP:20260421T171556Z
DTSTART:20260216T235959
DTEND:20260217T005959
SUMMARY:Cierre: Contratación del servicio de migración de las actu
DESCRIPTION:Contratación del servicio de migración de las actuales licencias propiedad de Paradores de Turismo de España\, S.M.E.\, S.A. SAGE XRT V4.00.600 a la nueva versión SAGE XRT ADVANCED y el hosting o alojam...\\n\\nOrganismo: Paradores de Turismo de España\, S.M.E.\, S.A.\\n\\nVer en Contratero: https://contratero.es/contracts/2026-0026
URL:https://contratero.es/contracts/2026-0026
STATUS:CONFIRMED
BEGIN:VALARM
TRIGGER:-P1D
ACTION:DISPLAY
DESCRIPTION:Recordatorio: Contratación del servicio de m
END:VALARM
END:VEVENT
END:VCALENDAR