BEGIN:VCALENDAR
VERSION:2.0
PRODID:-//Contratero//ES
CALSCALE:GREGORIAN
METHOD:PUBLISH
BEGIN:VEVENT
UID:2026-00269@contratero.es
DTSTAMP:20260420T013750Z
DTSTART:20260323T235959
DTEND:20260324T005959
SUMMARY:Cierre: Contratación de servicios de apoyo a actividades d
DESCRIPTION:Contratación de servicios de apoyo a actividades de monitorización y supervisión del diseño de espacio aéreo (asd)\, de la gestión del espacio aéreo (asd)\, de la gestión del espacio aéreo (asm) y del s...\\n\\nOrganismo: Consejero Delegado de Ingeniería de Sistemas para la Defensa de España S.A.\, S.M.E. y M.P.\\n\\nVer en Contratero: https://contratero.es/contracts/2026-00269
URL:https://contratero.es/contracts/2026-00269
STATUS:CONFIRMED
BEGIN:VALARM
TRIGGER:-P1D
ACTION:DISPLAY
DESCRIPTION:Recordatorio: Contratación de servicios de a
END:VALARM
END:VEVENT
END:VCALENDAR