BEGIN:VCALENDAR
VERSION:2.0
PRODID:-//Contratero//ES
CALSCALE:GREGORIAN
METHOD:PUBLISH
BEGIN:VEVENT
UID:2026-00395@contratero.es
DTSTAMP:20260420T002721Z
DTSTART:20260406T235959
DTEND:20260407T005959
SUMMARY:Cierre: Servicios de Mantenimiento de Equipos Informáticos
DESCRIPTION:Servicios de Mantenimiento de Equipos Informáticos Cortafuegos en el Complejo de Comunicaciones del Espacio Profundo de Madrid\, en Robledo de Chavela\\n\\nOrganismo: Consejero Delegado de Ingeniería de Sistemas para la Defensa de España S.A.\, S.M.E. y M.P.\\n\\nVer en Contratero: https://contratero.es/contracts/2026-00395
URL:https://contratero.es/contracts/2026-00395
STATUS:CONFIRMED
BEGIN:VALARM
TRIGGER:-P1D
ACTION:DISPLAY
DESCRIPTION:Recordatorio: Servicios de Mantenimiento de 
END:VALARM
END:VEVENT
END:VCALENDAR